BEGIN:VCALENDAR
VERSION:2.0
PRODID:-//SAFE ALSBOM - ECPv6.15.20//NONSGML v1.0//EN
CALSCALE:GREGORIAN
METHOD:PUBLISH
X-WR-CALNAME:SAFE ALSBOM
X-ORIGINAL-URL:https://safe.alsbom.org
X-WR-CALDESC:Events for SAFE ALSBOM
REFRESH-INTERVAL;VALUE=DURATION:PT1H
X-Robots-Tag:noindex
X-PUBLISHED-TTL:PT1H
BEGIN:VTIMEZONE
TZID:America/Chicago
BEGIN:DAYLIGHT
TZOFFSETFROM:-0600
TZOFFSETTO:-0500
TZNAME:CDT
DTSTART:20230312T080000
END:DAYLIGHT
BEGIN:STANDARD
TZOFFSETFROM:-0500
TZOFFSETTO:-0600
TZNAME:CST
DTSTART:20231105T070000
END:STANDARD
BEGIN:DAYLIGHT
TZOFFSETFROM:-0600
TZOFFSETTO:-0500
TZNAME:CDT
DTSTART:20240310T080000
END:DAYLIGHT
BEGIN:STANDARD
TZOFFSETFROM:-0500
TZOFFSETTO:-0600
TZNAME:CST
DTSTART:20241103T070000
END:STANDARD
BEGIN:DAYLIGHT
TZOFFSETFROM:-0600
TZOFFSETTO:-0500
TZNAME:CDT
DTSTART:20250309T080000
END:DAYLIGHT
BEGIN:STANDARD
TZOFFSETFROM:-0500
TZOFFSETTO:-0600
TZNAME:CST
DTSTART:20251102T070000
END:STANDARD
END:VTIMEZONE
BEGIN:VEVENT
DTSTART;TZID=America/Chicago:20240611T120000
DTEND;TZID=America/Chicago:20240611T133000
DTSTAMP:20260421T033219
CREATED:20240507T191239Z
LAST-MODIFIED:20240507T191239Z
UID:10000002-1718107200-1718112600@safe.alsbom.org
SUMMARY:Ministry Safe Special Session at SBC
DESCRIPTION:Historically\, the Church has a poor track record of reporting abuse.\n\n \n\nThis Special Session provides guidance on legal requirements\, the common obstacles to reporting and how to overcome these obstacles.
URL:https://safe.alsbom.org/event/ministry-safe-special-session-at-sbc/
LOCATION:AL
ATTACH;FMTTYPE=image/webp:https://safe.alsbom.org/wp-content/uploads/2024/05/SBC-2024-Artwork-Pt-1-Sepcial-Session-V6.webp
END:VEVENT
BEGIN:VEVENT
DTSTART;TZID=America/Chicago:20240220T093000
DTEND;TZID=America/Chicago:20240220T140000
DTSTAMP:20260421T033219
CREATED:20240507T191131Z
LAST-MODIFIED:20240507T191131Z
UID:10000001-1708421400-1708437600@safe.alsbom.org
SUMMARY:MinistrySafe Workshop
DESCRIPTION:The MinistrySafe Workshop will equip you with an awareness\, understanding\, tools and strategies needed to help protect children from sexual abuse in churches and protect churches through policy and procedure development and a session on responding to an allegation.\n\n \n\nFeatured Speaker: Kimberlee Norris from MinistrySafe\n\n \n\nCost: $20.00\n\n \n\nDate: February 20\, 2024\n\n \n\nTime: 9:30am – 2:00pm\n\n \n\nLocation: First Baptist Church Trussville
URL:https://safe.alsbom.org/event/ministrysafe-workshop/
LOCATION:AL
ATTACH;FMTTYPE=image/webp:https://safe.alsbom.org/wp-content/uploads/2023/11/Ministry-Safe.webp
END:VEVENT
END:VCALENDAR